BEGIN:VCALENDAR
VERSION:2.0
PRODID:-//International Piano Series, Oxford - ECPv6.15.16//NONSGML v1.0//EN
CALSCALE:GREGORIAN
METHOD:PUBLISH
X-WR-CALNAME:International Piano Series, Oxford
X-ORIGINAL-URL:https://internationalpianoseries.com
X-WR-CALDESC:Events for International Piano Series, Oxford
REFRESH-INTERVAL;VALUE=DURATION:PT1H
X-Robots-Tag:noindex
X-PUBLISHED-TTL:PT1H
BEGIN:VTIMEZONE
TZID:Europe/London
BEGIN:DAYLIGHT
TZOFFSETFROM:+0000
TZOFFSETTO:+0100
TZNAME:BST
DTSTART:20240331T010000
END:DAYLIGHT
BEGIN:STANDARD
TZOFFSETFROM:+0100
TZOFFSETTO:+0000
TZNAME:GMT
DTSTART:20241027T010000
END:STANDARD
BEGIN:DAYLIGHT
TZOFFSETFROM:+0000
TZOFFSETTO:+0100
TZNAME:BST
DTSTART:20250330T010000
END:DAYLIGHT
BEGIN:STANDARD
TZOFFSETFROM:+0100
TZOFFSETTO:+0000
TZNAME:GMT
DTSTART:20251026T010000
END:STANDARD
BEGIN:DAYLIGHT
TZOFFSETFROM:+0000
TZOFFSETTO:+0100
TZNAME:BST
DTSTART:20260329T010000
END:DAYLIGHT
BEGIN:STANDARD
TZOFFSETFROM:+0100
TZOFFSETTO:+0000
TZNAME:GMT
DTSTART:20261025T010000
END:STANDARD
END:VTIMEZONE
BEGIN:VEVENT
DTSTART;TZID=Europe/London:20251029T140000
DTEND;TZID=Europe/London:20251029T170000
DTSTAMP:20260424T114028
CREATED:20250801T094209Z
LAST-MODIFIED:20251002T103327Z
UID:5823-1761746400-1761757200@internationalpianoseries.com
SUMMARY:Steven Osborne Masterclass - at the JdP Music Building\, St Hilda's College
DESCRIPTION:Following on from his International Piano Series recital at St John’s College Auditorium the previous evening\, Steven Osborne presents a master class with pianists studying at the University of Oxford Faculty of Music. \n\n  \n \n \n  \nOur thanks to the Jacqueline du Pré Music Building\, St Hilda’s College\, for their hospitality and support for the International Piano Series \n\n  \n\n\n\n\n\n\n\n\n\n\n\n\n\n\n\n\n\n\n\n\n\n\n\n\n\n  \n 
URL:https://internationalpianoseries.com/event/steven-osborne-masterclass/
LOCATION:Jacqueline du Pré Music Building\, St Hilda’s College.\, Cowley Place\, Oxford\, OX4 1DY
ATTACH;FMTTYPE=image/jpeg:https://internationalpianoseries.com/ips/wp-content/uploads/2025/08/Steven-Osborne-3-c.Ben-Ealovega-e1759401084381.jpeg
END:VEVENT
END:VCALENDAR